BEGIN:VCALENDAR
VERSION:2.0
PRODID:-//Squarespace Inc/Squarespace 6//v6//EN
BEGIN:VEVENT
UID:5a7cdd278165f54c44ef27be@squarespace.com
DTSTAMP:20180208T233425Z
DTSTART:20180305T030000Z
DTEND:20180305T043000Z
SUMMARY:The Ice House
GEO:34.147785;-118.144516
LOCATION:PASADENA\, CA
END:VEVENT
END:VCALENDAR
