BEGIN:VCALENDAR
VERSION:2.0
PRODID:-//Squarespace Inc/Squarespace 6//v6//EN
BEGIN:VEVENT
UID:57d1e14bf7e0ab51452b459b@squarespace.com
DTSTAMP:20160908T220957Z
DTSTART:20161024T020000Z
DTEND:20161024T040000Z
SUMMARY:The Ice House
GEO:34.147785;-118.144516
LOCATION:Pasadena\, CA
END:VEVENT
END:VCALENDAR
