BEGIN:VCALENDAR
VERSION:2.0
PRODID:-//Squarespace Inc/Squarespace 6//v6//EN
BEGIN:VEVENT
UID:5c34e6b7352f535776862a46@squarespace.com
DTSTAMP:20190108T180836Z
DTSTART:20190121T030000Z
DTEND:20190121T040000Z
SUMMARY:The Dynasty Typewriter
GEO:34.052234;-118.243685
LOCATION:LOS ANGELES
END:VEVENT
END:VCALENDAR
