BEGIN:VCALENDAR
VERSION:2.0
PRODID:-//Squarespace Inc/Squarespace 6//v6//EN
BEGIN:VEVENT
UID:60957f3fe570f566f4f0d0c7@squarespace.com
DTSTAMP:20210507T175721Z
DTSTART:20210708T150000Z
DTEND:20210709T050000Z
SUMMARY:The Dynasty Typewriter
GEO:34.052234;-118.243685
LOCATION:Los Angeles\, CA
END:VEVENT
END:VCALENDAR
