BEGIN:VCALENDAR
VERSION:2.0
PRODID:-//Squarespace Inc/Squarespace 6//v6//EN
BEGIN:VEVENT
UID:60957f816aeb380011e6d3de@squarespace.com
DTSTAMP:20210507T175804Z
DTSTART:20210715T150000Z
DTEND:20210716T050000Z
SUMMARY:The Dynasty Typewriter
GEO:34.052234;-118.243685
LOCATION:Los Angeles\, CA
END:VEVENT
END:VCALENDAR
