BEGIN:VCALENDAR
VERSION:2.0
PRODID:-//Squarespace Inc/Squarespace 6//v6//EN
BEGIN:VEVENT
UID:60957f84b1540031b7d79103@squarespace.com
DTSTAMP:20210507T175848Z
DTSTART:20210722T150000Z
DTEND:20210723T050000Z
SUMMARY:The Dynasty Typewriter
GEO:34.052234;-118.243685
LOCATION:Los Angeles\, CA
END:VEVENT
END:VCALENDAR
