BEGIN:VCALENDAR
VERSION:2.0
PRODID:-//Squarespace Inc/Squarespace 6//v6//EN
BEGIN:VEVENT
UID:6112e1673546460e744007d6@squarespace.com
DTSTAMP:20210830T174425Z
DTSTART:20211005T030000Z
DTEND:20211005T170000Z
SUMMARY:The Dynasty Typewriter
GEO:34.052234;-118.243685
LOCATION:Los Angeles\, CA
END:VEVENT
END:VCALENDAR
