BEGIN:VCALENDAR
VERSION:2.0
PRODID:-//Squarespace Inc/Squarespace 6//v6//EN
BEGIN:VEVENT
UID:612d18f95123ae2f3203a987@squarespace.com
DTSTAMP:20210830T174457Z
DTSTART:20211011T030000Z
DTEND:20211011T170000Z
SUMMARY:The Dynasty Typewriter
GEO:34.052234;-118.243685
LOCATION:Los Angeles\, CA
END:VEVENT
END:VCALENDAR
