BEGIN:VCALENDAR
VERSION:2.0
PRODID:-//Squarespace Inc/Squarespace 6//v6//EN
BEGIN:VEVENT
UID:60957da260bf74674b92061e@squarespace.com
DTSTAMP:20210507T175601Z
DTSTART:20210702T030000Z
DTEND:20210702T050000Z
SUMMARY:The Dynasty Typewriter
GEO:34.06042;-118.280658
LOCATION:2511 Wilshire Blvd.\, Los Angeles\, CA 90057
END:VEVENT
END:VCALENDAR
