BEGIN:VCALENDAR
VERSION:2.0
PRODID:-//Squarespace Inc/Squarespace 6//v6//EN
BEGIN:VEVENT
UID:5c3f757cf950b796262ddc7e@squarespace.com
DTSTAMP:20190116T181927Z
DTSTART:20190318T020000Z
DTEND:20190318T030000Z
SUMMARY:The Dynasty Typewriter
END:VEVENT
END:VCALENDAR
