BEGIN:VCALENDAR
VERSION:2.0
PRODID:-//Squarespace Inc/Squarespace 6//v6//EN
BEGIN:VEVENT
UID:5c3f754888251b973c16e376@squarespace.com
DTSTAMP:20190116T181826Z
DTSTART:20190225T030000Z
DTEND:20190225T040000Z
SUMMARY:The Dynasty Typewriter
END:VEVENT
END:VCALENDAR
