BEGIN:VCALENDAR
VERSION:2.0
PRODID:-//Squarespace Inc/Squarespace 6//v6//EN
BEGIN:VEVENT
UID:5c3f750f575d1fd35e20e7bd@squarespace.com
DTSTAMP:20190116T181735Z
DTSTART:20190218T030000Z
DTEND:20190218T040000Z
SUMMARY:The Dynasty Typewriter
END:VEVENT
END:VCALENDAR
