BEGIN:VCALENDAR
VERSION:2.0
PRODID:-//Squarespace Inc/Squarespace 6//v6//EN
BEGIN:VEVENT
UID:59f24f6a109526b62a58444c@squarespace.com
DTSTAMP:20171026T211249Z
DTSTART:20171119T040000Z
DTEND:20171119T060000Z
SUMMARY:The CT Forum
GEO:41.763711;-72.685093
LOCATION:Hartford\, CT
END:VEVENT
END:VCALENDAR
