BEGIN:VCALENDAR
VERSION:2.0
PRODID:-//Squarespace Inc/Squarespace 6//v6//EN
BEGIN:VEVENT
UID:572d17ffe321409a4b823b6c@squarespace.com
DTSTAMP:20160722T170843Z
DTSTART:20160910T023000Z
DTEND:20160910T043000Z
SUMMARY:The Comedy Club
GEO:43.16103;-77.610922
LOCATION:Rochester\, NY
END:VEVENT
END:VCALENDAR
