BEGIN:VCALENDAR
VERSION:2.0
PRODID:-//Squarespace Inc/Squarespace 6//v6//EN
BEGIN:VEVENT
UID:572d18e860b5e90832458d9b@squarespace.com
DTSTAMP:20160722T170755Z
DTSTART:20160911T050000Z
DTEND:20160911T070000Z
SUMMARY:The Comedy Club
GEO:43.16103;-77.610922
LOCATION:Rochester\, NY
END:VEVENT
END:VCALENDAR
