BEGIN:VCALENDAR
VERSION:2.0
PRODID:-//Squarespace Inc/Squarespace 6//v6//EN
BEGIN:VEVENT
UID:572d18acb09f95a8f0db19c0@squarespace.com
DTSTAMP:20160722T170811Z
DTSTART:20160911T023000Z
DTEND:20160911T043000Z
SUMMARY:The Comedy Club
GEO:43.16103;-77.610922
LOCATION:Rochester\, NY
END:VEVENT
END:VCALENDAR
