BEGIN:VCALENDAR
VERSION:2.0
PRODID:-//Squarespace Inc/Squarespace 6//v6//EN
BEGIN:VEVENT
UID:572d185db09f95a8f0db17cb@squarespace.com
DTSTAMP:20160722T170828Z
DTSTART:20160910T050000Z
DTEND:20160910T070000Z
SUMMARY:The Comedy Club
GEO:43.16103;-77.610922
LOCATION:Rochester\, NY
END:VEVENT
END:VCALENDAR
