BEGIN:VCALENDAR
VERSION:2.0
PRODID:-//Squarespace Inc/Squarespace 6//v6//EN
BEGIN:VEVENT
UID:573cd3dcd210b81ec50c18c4@squarespace.com
DTSTAMP:20160722T171058Z
DTSTART:20160729T030000Z
DTEND:20160729T050000Z
SUMMARY:The Comedy Attic
GEO:39.165325;-86.526386
LOCATION:Bloomington\, IN
END:VEVENT
END:VCALENDAR
