BEGIN:VCALENDAR
VERSION:2.0
PRODID:-//Squarespace Inc/Squarespace 6//v6//EN
BEGIN:VEVENT
UID:573cd6d5c6fc085aa4a96d95@squarespace.com
DTSTAMP:20160722T170951Z
DTSTART:20160731T053000Z
DTEND:20160731T073000Z
SUMMARY:The Comedy Attic
GEO:39.165325;-86.526386
LOCATION:Bloomington\, IN
END:VEVENT
END:VCALENDAR
