BEGIN:VCALENDAR
VERSION:2.0
PRODID:-//Squarespace Inc/Squarespace 6//v6//EN
BEGIN:VEVENT
UID:573cd63601dbae7984ec20b1@squarespace.com
DTSTAMP:20160722T171008Z
DTSTART:20160731T030000Z
DTEND:20160731T050000Z
SUMMARY:The Comedy Attic
GEO:39.165325;-86.526386
LOCATION:Bloomington\, IN
END:VEVENT
END:VCALENDAR
