BEGIN:VCALENDAR
VERSION:2.0
PRODID:-//Squarespace Inc/Squarespace 6//v6//EN
BEGIN:VEVENT
UID:5b4c165b88251b376ed053b3@squarespace.com
DTSTAMP:20180716T041957Z
DTSTART:20180901T053000Z
DTEND:20180901T063000Z
SUMMARY:The Comedy Attic
GEO:39.165325;-86.526386
LOCATION:BLOOMINGTON IN
END:VEVENT
END:VCALENDAR
