BEGIN:VCALENDAR
VERSION:2.0
PRODID:-//Squarespace Inc/Squarespace 6//v6//EN
BEGIN:VEVENT
UID:5b4c161a758d462d957aa433@squarespace.com
DTSTAMP:20180716T035135Z
DTSTART:20180901T030000Z
DTEND:20180901T040000Z
SUMMARY:The Comedy Attic
GEO:39.165325;-86.526386
LOCATION:bloomington in
END:VEVENT
END:VCALENDAR
