BEGIN:VCALENDAR
VERSION:2.0
PRODID:-//Squarespace Inc/Squarespace 6//v6//EN
BEGIN:VEVENT
UID:5b4c15c7352f534ffb821ae4@squarespace.com
DTSTAMP:20180716T035033Z
DTSTART:20180831T030000Z
DTEND:20180831T040000Z
SUMMARY:The Comedy Attic
GEO:39.165325;-86.526386
LOCATION:BLOOMINGTON\, IN
END:VEVENT
END:VCALENDAR
