BEGIN:VCALENDAR
VERSION:2.0
PRODID:-//Squarespace Inc/Squarespace 6//v6//EN
BEGIN:VEVENT
UID:573cd5e17da24f0c091436e4@squarespace.com
DTSTAMP:20160722T171025Z
DTSTART:20160730T053000Z
DTEND:20160730T073000Z
SUMMARY:The Comedy Attic
GEO:39.165325;-86.526386
LOCATION:Bloomington\, IN
END:VEVENT
END:VCALENDAR
