BEGIN:VCALENDAR
VERSION:2.0
PRODID:-//Squarespace Inc/Squarespace 6//v6//EN
BEGIN:VEVENT
UID:57924e8dcd0f687a727bbcaa@squarespace.com
DTSTAMP:20160901T211726Z
DTSTART:20170218T040000Z
DTEND:20170218T060000Z
SUMMARY:The Carolina Theatre
GEO:35.994033;-78.898619
LOCATION:Durham\, NC
END:VEVENT
END:VCALENDAR
