BEGIN:VCALENDAR
VERSION:2.0
PRODID:-//Squarespace Inc/Squarespace 6//v6//EN
BEGIN:VEVENT
UID:5c75cd2cc83025197bb01815@squarespace.com
DTSTAMP:20190226T235509Z
DTSTART:20190419T030000Z
DTEND:20190419T030000Z
SUMMARY:The American Comedy Co.
END:VEVENT
END:VCALENDAR
