BEGIN:VCALENDAR
VERSION:2.0
PRODID:-//Squarespace Inc/Squarespace 6//v6//EN
BEGIN:VEVENT
UID:5c75d5d89b747a71797e3631@squarespace.com
DTSTAMP:20190227T001324Z
DTSTART:20190421T023000Z
DTEND:20190421T023000Z
SUMMARY:The American Comedy Co.
END:VEVENT
END:VCALENDAR
