BEGIN:VCALENDAR
VERSION:2.0
PRODID:-//Squarespace Inc/Squarespace 6//v6//EN
BEGIN:VEVENT
UID:5c75d0e69b747a71797df986@squarespace.com
DTSTAMP:20190226T235525Z
DTSTART:20190420T023000Z
DTEND:20190420T023000Z
SUMMARY:The American Comedy Co. 
END:VEVENT
END:VCALENDAR
