BEGIN:VCALENDAR
VERSION:2.0
PRODID:-//Squarespace Inc/Squarespace 6//v6//EN
BEGIN:VEVENT
UID:61afe6586fba5606d183e1a2@squarespace.com
DTSTAMP:20211207T225651Z
DTSTART:20220415T030000Z
DTEND:20220415T040000Z
SUMMARY:Tarrytown Music Hall
END:VEVENT
END:VCALENDAR
