BEGIN:VCALENDAR
VERSION:2.0
PRODID:-//Squarespace Inc/Squarespace 6//v6//EN
BEGIN:VEVENT
UID:5deedb7ec7e57920da0882f1@squarespace.com
DTSTAMP:20191209T234137Z
DTSTART:20200221T040000Z
DTEND:20200221T050000Z
SUMMARY:State Theatre
END:VEVENT
END:VCALENDAR
