BEGIN:VCALENDAR
VERSION:2.0
PRODID:-//Squarespace Inc/Squarespace 6//v6//EN
BEGIN:VEVENT
UID:61a5096e1898562e22048e06@squarespace.com
DTSTAMP:20211129T171221Z
DTSTART:20220418T023000Z
DTEND:20220418T033000Z
SUMMARY:State Theatre
END:VEVENT
END:VCALENDAR
