BEGIN:VCALENDAR
VERSION:2.0
PRODID:-//Squarespace Inc/Squarespace 6//v6//EN
BEGIN:VEVENT
UID:60a861cc49971408114ed5fc@squarespace.com
DTSTAMP:20210719T145955Z
DTSTART:20210813T020000Z
DTEND:20210813T030000Z
SUMMARY:StandUp Live
END:VEVENT
END:VCALENDAR
