BEGIN:VCALENDAR
VERSION:2.0
PRODID:-//Squarespace Inc/Squarespace 6//v6//EN
BEGIN:VEVENT
UID:60f5936baddfd9133864ccba@squarespace.com
DTSTAMP:20210719T150026Z
DTSTART:20210814T020000Z
DTEND:20210814T030000Z
SUMMARY:StandUp Live
END:VEVENT
END:VCALENDAR
