BEGIN:VCALENDAR
VERSION:2.0
PRODID:-//Squarespace Inc/Squarespace 6//v6//EN
BEGIN:VEVENT
UID:5b55433288251b47552d3339@squarespace.com
DTSTAMP:20180723T025447Z
DTSTART:20181014T020000Z
DTEND:20181014T030000Z
SUMMARY:Stand Up Live
GEO:40.720756;-74.000761
LOCATION:Phoenix\, AZ
END:VEVENT
END:VCALENDAR
