BEGIN:VCALENDAR
VERSION:2.0
PRODID:-//Squarespace Inc/Squarespace 6//v6//EN
BEGIN:VEVENT
UID:573cd938f699bbef8f617e47@squarespace.com
DTSTAMP:20160722T170934Z
DTSTART:20160821T020000Z
DTEND:20160821T040000Z
SUMMARY:Stand Up Live
GEO:33.448377;-112.074037
LOCATION:Phoenix\, AZ
END:VEVENT
END:VCALENDAR
