BEGIN:VCALENDAR
VERSION:2.0
PRODID:-//Squarespace Inc/Squarespace 6//v6//EN
BEGIN:VEVENT
UID:572d138759827eeb6e3634ec@squarespace.com
DTSTAMP:20160506T220443Z
DTSTART:20160708T023000Z
DTEND:20160708T043000Z
SUMMARY:Spokane Comedy Club
GEO:47.65878;-117.426047
LOCATION:Spokane\, WA
END:VEVENT
END:VCALENDAR
