BEGIN:VCALENDAR
VERSION:2.0
PRODID:-//Squarespace Inc/Squarespace 6//v6//EN
BEGIN:VEVENT
UID:572d1642c6fc082912693dc6@squarespace.com
DTSTAMP:20160506T221101Z
DTSTART:20160710T053000Z
DTEND:20160710T073000Z
SUMMARY:Spokane Comedy Club
GEO:47.65878;-117.426047
LOCATION:Spokane\, WA
END:VEVENT
END:VCALENDAR
