BEGIN:VCALENDAR
VERSION:2.0
PRODID:-//Squarespace Inc/Squarespace 6//v6//EN
BEGIN:VEVENT
UID:572d1608cf80a12c4b534938@squarespace.com
DTSTAMP:20160506T220958Z
DTSTART:20160710T023000Z
DTEND:20160710T043000Z
SUMMARY:Spokane Comedy Club
GEO:47.65878;-117.426047
LOCATION:Spokane\, WA
END:VEVENT
END:VCALENDAR
