BEGIN:VCALENDAR
VERSION:2.0
PRODID:-//Squarespace Inc/Squarespace 6//v6//EN
BEGIN:VEVENT
UID:572d15974d088ea3a8ed0f9d@squarespace.com
DTSTAMP:20160509T195811Z
DTSTART:20160709T053000Z
DTEND:20160709T073000Z
SUMMARY:Spokane Comedy Club
GEO:47.65878;-117.426047
LOCATION:Spokane\, WA
END:VEVENT
END:VCALENDAR
