BEGIN:VCALENDAR
VERSION:2.0
PRODID:-//Squarespace Inc/Squarespace 6//v6//EN
BEGIN:VEVENT
UID:572d153707eaa0ad6ffa7b78@squarespace.com
DTSTAMP:20160506T220646Z
DTSTART:20160709T023000Z
DTEND:20160709T043000Z
SUMMARY:Spokane Comedy Club
GEO:47.65878;-117.426047
LOCATION:Spokane\, WA
END:VEVENT
END:VCALENDAR
