BEGIN:VCALENDAR
VERSION:2.0
PRODID:-//Squarespace Inc/Squarespace 6//v6//EN
BEGIN:VEVENT
UID:5cab9b18e79c703b55bb01f7@squarespace.com
DTSTAMP:20190408T190511Z
DTSTART:20191013T020000Z
DTEND:20191013T030000Z
SUMMARY:Shubert Theatre
END:VEVENT
END:VCALENDAR
