BEGIN:VCALENDAR
VERSION:2.0
PRODID:-//Squarespace Inc/Squarespace 6//v6//EN
BEGIN:VEVENT
UID:57dad702e3df28673b4110b3@squarespace.com
DTSTAMP:20161213T202936Z
DTSTART:20170125T040000Z
DTEND:20170125T060000Z
SUMMARY:Ruby Diamond Concert Hall
GEO:30.438256;-84.280733
LOCATION:Tallahassee\, FL
END:VEVENT
END:VCALENDAR
