BEGIN:VCALENDAR
VERSION:2.0
PRODID:-//Squarespace Inc/Squarespace 6//v6//EN
BEGIN:VEVENT
UID:5a2dfdd771c10b8afed89ce9@squarespace.com
DTSTAMP:20171214T034058Z
DTSTART:20180424T030000Z
DTEND:20180424T050000Z
SUMMARY:Royal Theatre Carre
GEO:52.370216;4.895168
LOCATION:Amsterdam\, Netherlands
END:VEVENT
END:VCALENDAR
