BEGIN:VCALENDAR
VERSION:2.0
PRODID:-//Squarespace Inc/Squarespace 6//v6//EN
BEGIN:VEVENT
UID:5c48c148b8a0454731d7ac37@squarespace.com
DTSTAMP:20190123T193313Z
DTSTART:20190407T023000Z
DTEND:20190407T033000Z
SUMMARY:Royal Festival Hall
GEO:51.507351;-0.127758
LOCATION:london\, england
END:VEVENT
END:VCALENDAR
