BEGIN:VCALENDAR
VERSION:2.0
PRODID:-//Squarespace Inc/Squarespace 6//v6//EN
BEGIN:VEVENT
UID:5a2dfc6d53450ab787de7f9c@squarespace.com
DTSTAMP:20171212T192942Z
DTSTART:20180417T030000Z
DTEND:20180417T050000Z
SUMMARY:Royal Festival Hall
GEO:51.507351;-0.127758
LOCATION:London\, UK
END:VEVENT
END:VCALENDAR
