BEGIN:VCALENDAR
VERSION:2.0
PRODID:-//Squarespace Inc/Squarespace 6//v6//EN
BEGIN:VEVENT
UID:5b3527262b6a28a036576b3b@squarespace.com
DTSTAMP:20180716T043708Z
DTSTART:20180720T030000Z
DTEND:20180720T040000Z
SUMMARY:The Ice House
GEO:34.147785;-118.144516
LOCATION:Pasadena\, CA
END:VEVENT
END:VCALENDAR
