BEGIN:VCALENDAR
VERSION:2.0
PRODID:-//Squarespace Inc/Squarespace 6//v6//EN
BEGIN:VEVENT
UID:5cab972526cf4e0001694049@squarespace.com
DTSTAMP:20190424T015248Z
DTSTART:20190810T023000Z
DTEND:20190810T033000Z
SUMMARY:Revolution Hall (SOLD OUT)
END:VEVENT
END:VCALENDAR
