BEGIN:VCALENDAR
VERSION:2.0
PRODID:-//Squarespace Inc/Squarespace 6//v6//EN
BEGIN:VEVENT
UID:5cb4d53c652dea750a2a6053@squarespace.com
DTSTAMP:20190415T190309Z
DTSTART:20190811T023000Z
DTEND:20190811T033000Z
SUMMARY:Revolution Hall
END:VEVENT
END:VCALENDAR
