BEGIN:VCALENDAR
VERSION:2.0
PRODID:-//Squarespace Inc/Squarespace 6//v6//EN
BEGIN:VEVENT
UID:5c48c1a2b8a0454731d7b02c@squarespace.com
DTSTAMP:20190123T193701Z
DTSTART:20190409T023000Z
DTEND:20190409T033000Z
SUMMARY:The Rep Theatre
GEO:52.486243;-1.890401
LOCATION:BIRMINGHAM\, ENGLAND
END:VEVENT
END:VCALENDAR
