BEGIN:VCALENDAR
VERSION:2.0
PRODID:-//Squarespace Inc/Squarespace 6//v6//EN
BEGIN:VEVENT
UID:5d95671bb2c2e222918bb4d5@squarespace.com
DTSTAMP:20191003T032339Z
DTSTART:20191031T020000Z
DTEND:20191031T030000Z
SUMMARY:REDCAT Theater
END:VEVENT
END:VCALENDAR
